BEGIN:VCALENDAR
VERSION:2.0
PRODID:-//ChamberMaster//Event Calendar 2.0//EN
METHOD:PUBLISH
X-PUBLISHED-TTL:P3D
REFRESH-INTERVAL:P3D
CALSCALE:GREGORIAN
BEGIN:VEVENT
DTSTART:20260425T130000Z
DTEND:20260425T210000Z
X-MICROSOFT-CDO-ALLDAYEVENT:FALSE
SUMMARY:Five Colleges Book Sale
DESCRIPTION:The Five Colleges Book Sale   which features more than 40\,000 books\, in addition to CDs\, DVDs\, BluRays and puzzles   will take place at Lebanon High School (195 Hanover Street) the following dates: Friday\, April 24: 9 a.m. to 5 p.m. Saturday\, April 25: 9 a.m. to. 5 p.m. Sunday\, April 26: 9 a.m. to 3 p.m. (half-price day) All proceeds from the sale go toward scholarships for local students.
X-ALT-DESC;FMTTYPE=text/html:The Five Colleges Book Sale &mdash\; which features more than 40\,000 books\, in addition to CDs\, DVDs\, BluRays and puzzles &mdash\; will take place at Lebanon High School (195 Hanover Street) the following dates: Friday\, April 24: 9 a.m. to 5 p.m. Saturday\, April 25: 9 a.m. to. 5 p.m. Sunday\, April 26: 9 a.m. to 3 p.m. (half-price day) All proceeds from the sale go toward scholarships for local students.
LOCATION:Lebanon High School (195 Hanover Street)
UID:e.3068.38698
SEQUENCE:3
DTSTAMP:20260420T000546Z
URL:https://visittheuppervalley.uppervalleybusinessalliance.com/events/details/five-colleges-book-sale-04-25-2026-38698
END:VEVENT

END:VCALENDAR
