BEGIN:VCALENDAR
VERSION:2.0
PRODID:-//ChamberMaster//Event Calendar 2.0//EN
METHOD:PUBLISH
X-PUBLISHED-TTL:P3D
REFRESH-INTERVAL:P3D
CALSCALE:GREGORIAN
BEGIN:VEVENT
DTSTART:20260616T180000Z
DTEND:20260616T223000Z
X-MICROSOFT-CDO-ALLDAYEVENT:FALSE
SUMMARY:Fan Favorite: San Song Kitchens Korean Food at Sweetland Farm!
DESCRIPTION:Miye and Ryan return to Sweetland for their 4th summer! Come and see what all of the buzz is about\, and make sure you order early\, because Miye's bulgogi\, bibimbap\, and other handmade Korean meals are snapped up by those in the know. Vegan and vegetarian options available!
X-ALT-DESC;FMTTYPE=text/html:<span style="color:rgb(0\, 0\, 0)\; font-family:rubik\,sans-serif\; font-size:17px">Miye and Ryan return to Sweetland for their 4th summer! Come and see what all of the buzz is about\, and make sure you order early\, because Miye&rsquo\;s bulgogi\, bibimbap\, and other handmade Korean meals are snapped up by those in the know. Vegan and vegetarian options available!</span>
LOCATION:Sweetland Farm
UID:e.3068.38377
SEQUENCE:3
DTSTAMP:20260420T064752Z
URL:https://visittheuppervalley.uppervalleybusinessalliance.com/events/details/fan-favorite-san-song-kitchens-korean-food-at-sweetland-farm-38377
END:VEVENT

END:VCALENDAR
