BEGIN:VCALENDAR
VERSION:2.0
PRODID:-//ChamberMaster//Event Calendar 2.0//EN
METHOD:PUBLISH
X-PUBLISHED-TTL:P3D
REFRESH-INTERVAL:P3D
CALSCALE:GREGORIAN
BEGIN:VEVENT
DTSTART:20260926T140000Z
DTEND:20260926T180000Z
X-MICROSOFT-CDO-ALLDAYEVENT:FALSE
SUMMARY:Fall Festival & Hoofin’ it for Hay Benefit 5k!
DESCRIPTION:Join us for delicious meals and snacks from local food trucks\, activities for kids\, product samples\, and the annual Hoofin' It for Hay 5k and kid's fun run to support StoneLedge Stables' mission!
X-ALT-DESC;FMTTYPE=text/html:<span style="color:rgb(0\, 0\, 0)\; font-family:rubik\,sans-serif\; font-size:17px">Join us for delicious meals and snacks from local food trucks\, activities for kids\, product samples\, and the annual Hoofin&rsquo\; It for Hay 5k and kid&rsquo\;s fun run to support StoneLedge Stables&rsquo\; mission!</span>
LOCATION:Sweetland Farm
UID:e.3068.38385
SEQUENCE:3
DTSTAMP:20260422T172103Z
URL:https://visittheuppervalley.uppervalleybusinessalliance.com/events/details/fall-festival-hoofin-it-for-hay-benefit-5k-38385
END:VEVENT

END:VCALENDAR
