BEGIN:VCALENDAR
VERSION:2.0
PRODID:-//ChamberMaster//Event Calendar 2.0//EN
METHOD:PUBLISH
X-PUBLISHED-TTL:P3D
REFRESH-INTERVAL:P3D
CALSCALE:GREGORIAN
BEGIN:VEVENT
DTSTART:20260602T180000Z
DTEND:20260602T223000Z
X-MICROSOFT-CDO-ALLDAYEVENT:FALSE
SUMMARY:Epic Tacos with Taco Truck All Stars
DESCRIPTION:Serving up delicious California style tacos since 2012 with a gluten-free and allergen friendly menu! The taco truck is off-grid and self-sufficient\, 100% of the electricity used to make your meal is from solar panels\, and passive water heating systems are used within the truck. All food is served on 100% compostable plates and cups.
X-ALT-DESC;FMTTYPE=text/html:<span style="color:rgb(0\, 0\, 0)\; font-family:rubik\,sans-serif\; font-size:17px">Serving up delicious California style tacos since 2012 with a gluten-free and allergen friendly menu! The taco truck is off-grid and self-sufficient\, 100% of the electricity used to make your meal is from solar panels\, and passive water heating systems are used within the truck. All food is served on 100% compostable plates and cups.</span>
LOCATION:Sweetland Farm
UID:e.3068.38362
SEQUENCE:3
DTSTAMP:20260420T064331Z
URL:https://visittheuppervalley.uppervalleybusinessalliance.com/events/details/epic-tacos-with-taco-truck-all-stars-38362
END:VEVENT

END:VCALENDAR
