BEGIN:VCALENDAR
VERSION:2.0
PRODID:-//ChamberMaster//Event Calendar 2.0//EN
METHOD:PUBLISH
X-PUBLISHED-TTL:P3D
REFRESH-INTERVAL:P3D
CALSCALE:GREGORIAN
BEGIN:VEVENT
DTSTART:20260908T180000Z
DTEND:20260908T223000Z
X-MICROSOFT-CDO-ALLDAYEVENT:FALSE
SUMMARY:Dunkin’ and Slurpin’ with Cheezy Tomato!
DESCRIPTION:Need to get the wiggles out? Cheezy Tomato knows the way to every kids' heart! The Cheezy team offer grilled cheese and tomato basil soup for dippin' and slurpin'\, the perfect meal for an early autumn meal al fresco. Grab some dinner from the Cheezy crew and gather at the picnic tables in the bonus field for a simple\, delicious dinner with occasional forays into the sandbox or the gardens!
X-ALT-DESC;FMTTYPE=text/html:<span style="color:rgb(0\, 0\, 0)\; font-family:rubik\,sans-serif\; font-size:17px">Need to get the wiggles out? Cheezy Tomato knows the way to every kids&rsquo\; heart! The Cheezy team offer grilled cheese and tomato basil soup for dippin&rsquo\; and slurpin&rsquo\;\, the perfect meal for an early autumn meal al fresco. Grab some dinner from the Cheezy crew and gather at the picnic tables in the bonus field for a simple\, delicious dinner with occasional forays into the sandbox or the gardens!</span>
LOCATION:Sweetland Farm
UID:e.3068.38384
SEQUENCE:3
DTSTAMP:20260422T171854Z
URL:https://visittheuppervalley.uppervalleybusinessalliance.com/events/details/dunkin-and-slurpin-with-cheezy-tomato-38384
END:VEVENT

END:VCALENDAR
