BEGIN:VCALENDAR
VERSION:2.0
PRODID:-//ChamberMaster//Event Calendar 2.0//EN
METHOD:PUBLISH
X-PUBLISHED-TTL:P3D
REFRESH-INTERVAL:P3D
CALSCALE:GREGORIAN
BEGIN:VEVENT
DTSTART:20260612T180000Z
DTEND:20260612T223000Z
X-MICROSOFT-CDO-ALLDAYEVENT:FALSE
SUMMARY:Dreamy Treats from Dipped by Hope
DESCRIPTION:Dipped by Hope Home is a home bakery specializing in cake pops and dipped treats. Swing by to pick up a delicious and beautiful treat to go\, or a whole bouquet to pass out to friends!
X-ALT-DESC;FMTTYPE=text/html:<span style="color:rgb(0\, 0\, 0)\; font-family:rubik\,sans-serif\; font-size:17px">Dipped by Hope Home is a home bakery specializing in cake pops and dipped treats. Swing by to pick up a delicious and beautiful treat to go\, or a whole bouquet to pass out to friends!</span>
LOCATION:Sweetland Farm
UID:e.3068.38352
SEQUENCE:3
DTSTAMP:20260420T063842Z
URL:https://visittheuppervalley.uppervalleybusinessalliance.com/events/details/dreamy-treats-from-dipped-by-hope-06-12-2026-38352
END:VEVENT

END:VCALENDAR
