BEGIN:VCALENDAR
VERSION:2.0
PRODID:-//ChamberMaster//Event Calendar 2.0//EN
METHOD:PUBLISH
X-PUBLISHED-TTL:P3D
REFRESH-INTERVAL:P3D
CALSCALE:GREGORIAN
BEGIN:VEVENT
DTSTART:20260804T210000Z
DTEND:20260804T213000Z
X-MICROSOFT-CDO-ALLDAYEVENT:FALSE
SUMMARY:Discover Sweetland’s Upper Farm!
DESCRIPTION:Curious about the lesser known part of Sweetland Farm? Join the farm's owner\, Norah Lake\, for a 1-hour tour of the upper farm\, including the orchard and many of our veggie fields! One tour available at 5:00 pm. Meet at the big bulletin board in front of the Sweetland Farm store.
X-ALT-DESC;FMTTYPE=text/html:<p><span style="color:rgb(0\, 0\, 0)\; font-family:rubik\,sans-serif\; font-size:17px">Curious about the lesser known part of Sweetland Farm? Join the farm&rsquo\;s owner\, Norah Lake\, for a 1-hour tour of the upper farm\, including the orchard and many of our veggie fields! One tour available at 5:00 pm. Meet at the big bulletin board in front of the Sweetland Farm store.</span></p>\n
LOCATION:Sweetland Farm
UID:e.3068.38391
SEQUENCE:3
DTSTAMP:20260420T100635Z
URL:https://visittheuppervalley.uppervalleybusinessalliance.com/events/details/discover-sweetland-s-upper-farm-08-04-2026-38391
END:VEVENT

END:VCALENDAR
