BEGIN:VCALENDAR
VERSION:2.0
PRODID:-//ChamberMaster//Event Calendar 2.0//EN
METHOD:PUBLISH
X-PUBLISHED-TTL:P3D
REFRESH-INTERVAL:P3D
CALSCALE:GREGORIAN
BEGIN:VEVENT
DTSTART:20260522T210000Z
DTEND:20260522T213000Z
X-MICROSOFT-CDO-ALLDAYEVENT:FALSE
SUMMARY:Discover Sweetland’s Lower Farm!
DESCRIPTION:Curious about what's in all of those barns and high tunnels at Sweetland Farm? Join the farm's owner\, Norah Lake\, for a 30-minute overview of the lower farm\, complete with peeks into greenhouses\, the barns\, and our CSA and wash/pack areas!\n\nTwo tours available\, one at 3 pm and one at 5:30 pm. Meet at the big bulletin board in front of the Sweetland Farm store.
X-ALT-DESC;FMTTYPE=text/html:<p>Curious about what&rsquo\;s in all of those barns and high tunnels at Sweetland Farm? Join the farm&rsquo\;s owner\, Norah Lake\, for a 30-minute overview of the lower farm\, complete with peeks into greenhouses\, the barns\, and our CSA and wash/pack areas!</p>\n\n<p>Two tours available\, one at 3 pm and one at 5:30 pm. Meet at the big bulletin board in front of the Sweetland Farm store.</p>\n
LOCATION:Sweetland Farm
UID:e.3068.38389
SEQUENCE:3
DTSTAMP:20260420T033229Z
URL:https://visittheuppervalley.uppervalleybusinessalliance.com/events/details/discover-sweetland-s-lower-farm-05-22-2026-38389
END:VEVENT

END:VCALENDAR
