BEGIN:VCALENDAR
VERSION:2.0
PRODID:-//ChamberMaster//Event Calendar 2.0//EN
METHOD:PUBLISH
X-PUBLISHED-TTL:P3D
REFRESH-INTERVAL:P3D
CALSCALE:GREGORIAN
BEGIN:VEVENT
DTSTART:20260425T040000Z
DTEND:20260426T030000Z
X-MICROSOFT-CDO-ALLDAYEVENT:FALSE
SUMMARY:Dee Dee Bridgewater and Bill Charlap
DESCRIPTION:Two jazz legends. One unforgettable evening.\n\n\nVocalist Dee Dee Bridgewater and pianist Bill Charlap each a towering figure in American jazz join forces for a night of intimate\, electrifying music-making.\n\nA three-time Grammy winner and NEA Jazz Master\, Bridgewater brings her unmistakable voice\, theatrical flair and fearless spirit to every note. Charlap\, one of the most sensitive and swinging pianists of his generation\, is celebrated for his deep knowledge of the Great American Songbook.\n\nThe duo will interpret classics by iconic composers such as Ellington\, Porter\, Sondheim and more reimagining each song with warmth\, wit\, and soul.\n\nPart of Dartmouth's celebration of America's 250th anniversary
X-ALT-DESC;FMTTYPE=text/html:<h3>Two jazz legends. One unforgettable evening.</h3>\n\n<div>\n<p>Vocalist Dee Dee Bridgewater and pianist Bill Charlap&mdash\;each a towering figure in American jazz&mdash\;join forces for a night of intimate\, electrifying music-making.</p>\n\n<p>A three-time Grammy winner and NEA Jazz Master\, Bridgewater brings her unmistakable voice\, theatrical flair and fearless spirit to every note. Charlap\, one of the most sensitive and swinging pianists of his generation\, is celebrated for his deep knowledge of the Great American Songbook.</p>\n\n<p>The duo will interpret classics by iconic composers such as Ellington\, Porter\, Sondheim and more&mdash\;reimagining each song with warmth\, wit\, and soul.</p>\n\n<p><em>Part of Dartmouth&#39\;s celebration of America&#39\;s 250th anniversary</em>&nbsp\;</p>\n</div>\n
LOCATION:Hopkins Center Spaulding Auditorium 12 Lebanon Street Hanover\, NH
UID:e.3068.37286
SEQUENCE:3
DTSTAMP:20260419T192842Z
URL:https://visittheuppervalley.uppervalleybusinessalliance.com/events/details/dee-dee-bridgewater-and-bill-charlap-37286
END:VEVENT

END:VCALENDAR
