BEGIN:VCALENDAR
VERSION:2.0
PRODID:-//ChamberMaster//Event Calendar 2.0//EN
METHOD:PUBLISH
X-PUBLISHED-TTL:P3D
REFRESH-INTERVAL:P3D
CALSCALE:GREGORIAN
BEGIN:VEVENT
DTSTART:20260509T233000Z
DTEND:20260510T013000Z
X-MICROSOFT-CDO-ALLDAYEVENT:FALSE
SUMMARY:Dartmouth Symphony Orchestra & Dance Ensemble: Firebird (A Live & Simulcast Stravinsky Experience)
DESCRIPTION:The iconic work gets new wings in a mystical and technologically transformed experience uniting dance and orchestra.\n\n\nFilippo Ciabatti\, DSO director\n\nJohn Heginbotham\, DDE director\n\nFamous for its rich rhythms\, Russian folkloric melodies and dissonant strains\, Stravinsky's 1910 work for the Ballet Russes broke boundaries. Now\, two Hop Ensembles collaborate to reimagine the tale of rebirth as a pair of simulcast performances. The Dartmouth Symphony Orchestra will perform the entire Firebird in Spaulding Auditorium\, enriched by a live projection of choreography by the Dartmouth Dance Ensemble. At the same moment (and on the other side of the Hop) audiences will be immersed in the reworked dance\, accompanied in real-time by the dynamic orchestral score.\n\n\nGo Full Firebird\n\nExperience both versions of the work over 2 nights in 2 spaces. And Save 40%.
X-ALT-DESC;FMTTYPE=text/html:<h3>The iconic work gets new wings in a mystical and technologically transformed experience uniting dance and orchestra.</h3>\n\n<div>\n<p><strong>Filippo Ciabatti\, DSO director<br />\nJohn Heginbotham\, DDE director</strong></p>\n\n<p>Famous for its rich rhythms\, Russian folkloric melodies and dissonant strains\, Stravinsky&#39\;s 1910 work for the Ballet Russes broke boundaries. Now\, two Hop Ensembles collaborate to reimagine the tale of rebirth as a pair of simulcast performances. The Dartmouth Symphony Orchestra will perform the entire&nbsp\;<em>Firebird</em>&nbsp\;in Spaulding Auditorium\, enriched by a live projection of choreography by the Dartmouth Dance Ensemble. At the same moment (and on the other side of the Hop) audiences will be immersed in the reworked dance\, accompanied in real-time by the dynamic orchestral score.</p>\n\n<div>\n<div style="background:#eee\;border:1px solid #ccc\;padding:5px 10px\;"><strong>Go Full Firebird</strong><br />\nExperience both versions of the work over 2 nights in 2 spaces. And Save 40%.</div>\n</div>\n</div>\n
LOCATION:Hopkins Center Spaulding Auditorium 12 Lebanon Street Hanover\, NH Daryl Roth Studio Theater 4 East Wheelock Street Hanover\, NH
UID:e.3068.37291
SEQUENCE:3
DTSTAMP:20260419T210735Z
URL:https://visittheuppervalley.uppervalleybusinessalliance.com/events/details/dartmouth-symphony-orchestra-dance-ensemble-firebird-a-live-simulcast-stravinsky-experience-05-09-2026-37291
END:VEVENT

END:VCALENDAR
