BEGIN:VCALENDAR
VERSION:2.0
PRODID:-//ChamberMaster//Event Calendar 2.0//EN
METHOD:PUBLISH
X-PUBLISHED-TTL:P3D
REFRESH-INTERVAL:P3D
CALSCALE:GREGORIAN
BEGIN:VEVENT
DTSTART:20260407T230000Z
DTEND:20260408T010000Z
X-MICROSOFT-CDO-ALLDAYEVENT:FALSE
SUMMARY:Cuban dance classes (rueda de casino) 5-week series
DESCRIPTION:Join a welcoming community\, make new friends\, and have fun learning the elegant and energetic Cuban dance known as rueda de casino. No partner needed - beginners welcome! ***Note that this 5-week series runs from March 10 - April 7*** We will focus on rueda de casino in preparation for our flashmob on March 28th! Pre-register online at uvcasineros.square.site or pay with cash\, Venmo\, card\, or check in class (please arrive 5 min early) Join us for a fun and friendly dance! Please bring clean shoes. *Intermediate classes and drop-ins require instructor approval
X-ALT-DESC;FMTTYPE=text/html:Join a welcoming community\, make new friends\, and have fun learning the elegant and energetic Cuban dance known as rueda de casino. No partner needed - beginners welcome! ***Note that this 5-week series runs from March 10 - April 7*** We will focus on rueda de casino in preparation for our flashmob on March 28th! Pre-register online at uvcasineros.square.site or pay with cash\, Venmo\, card\, or check in class (please arrive 5 min early) Join us for a fun and friendly dance! Please bring clean shoes. *Intermediate classes and drop-ins require instructor approval
LOCATION:St. Barnabas Church\, 262 Main St\, Norwich\, VT (rear parish hall)
UID:e.3068.38398
SEQUENCE:3
DTSTAMP:20260420T014628Z
URL:https://visittheuppervalley.uppervalleybusinessalliance.com/events/details/cuban-dance-classes-rueda-de-casino-5-week-series-04-07-2026-38398
END:VEVENT

END:VCALENDAR
