BEGIN:VCALENDAR
VERSION:2.0
PRODID:-//ChamberMaster//Event Calendar 2.0//EN
METHOD:PUBLISH
X-PUBLISHED-TTL:P3D
REFRESH-INTERVAL:P3D
CALSCALE:GREGORIAN
BEGIN:VEVENT
DTSTART:20260519T230000Z
DTEND:20260520T010000Z
X-MICROSOFT-CDO-ALLDAYEVENT:FALSE
SUMMARY:Cuban dance classes (casino) May 4-week series
DESCRIPTION:Join a welcoming community\, make new friends\, and have fun learning the elegant and energetic Cuban dance known as "casino". No partner needed - beginners welcome! Join us for a fun and friendly dance! Please bring clean shoes and water.
X-ALT-DESC;FMTTYPE=text/html:Join a welcoming community\, make new friends\, and have fun learning the elegant and energetic Cuban dance known as &quot\;casino&quot\;. No partner needed - beginners welcome! Join us for a fun and friendly dance! Please bring clean shoes and water.
LOCATION:St. Barnabas Church\, 262 Main St\, Norwich\, VT (rear parish hall)
UID:e.3068.38472
SEQUENCE:3
DTSTAMP:20260420T015829Z
URL:https://visittheuppervalley.uppervalleybusinessalliance.com/events/details/cuban-dance-classes-casino-may-4-week-series-05-19-2026-38472
END:VEVENT

END:VCALENDAR
