BEGIN:VCALENDAR
VERSION:2.0
PRODID:-//ChamberMaster//Event Calendar 2.0//EN
METHOD:PUBLISH
X-PUBLISHED-TTL:P3D
REFRESH-INTERVAL:P3D
CALSCALE:GREGORIAN
BEGIN:VEVENT
DTSTART:20260418T220000Z
DTEND:20260419T030000Z
X-MICROSOFT-CDO-ALLDAYEVENT:FALSE
SUMMARY:Couch Multiplayer Video Games
DESCRIPTION:If everyone can play\, anyone can play. Join us after 6:00 pm every Saturday\, when multiplayer games are free to play on our video game consoles\, including Nintendo Switch OLED\, PlayStation 5\, Xbox One S\, and more!
X-ALT-DESC;FMTTYPE=text/html:<strong>If everyone can play\, anyone can play.&nbsp\;</strong>Join us after 6:00 pm every Saturday\, when multiplayer games are free to play on our video game consoles\, including Nintendo Switch OLED\, PlayStation 5\, Xbox One S\, and more!&nbsp\;
LOCATION:The Fourth Place 3 Lebanon St (Second Floor) Hanover\, NH 03755
UID:e.3068.36600
SEQUENCE:3
DTSTAMP:20260420T001814Z
URL:https://visittheuppervalley.uppervalleybusinessalliance.com/events/details/couch-multiplayer-video-games-04-18-2026-36600
END:VEVENT

END:VCALENDAR
