BEGIN:VCALENDAR
VERSION:2.0
PRODID:-//ChamberMaster//Event Calendar 2.0//EN
METHOD:PUBLISH
X-PUBLISHED-TTL:P3D
REFRESH-INTERVAL:P3D
CALSCALE:GREGORIAN
BEGIN:VEVENT
DTSTART:20260402T163000Z
DTEND:20260402T173000Z
X-MICROSOFT-CDO-ALLDAYEVENT:FALSE
SUMMARY:Conversations and Connections: "Nurturing Nationhood" and "American Pop"
DESCRIPTION:How do people and symbols contribute to our understandings of the United States as a nation? Join Annelise Orleck\, professor of history at Dartmouth\, and exhibition curators for a discussion of this question and more in connection with the Hood Museum's 2026 exhibitions.
X-ALT-DESC;FMTTYPE=text/html:How do people and symbols contribute to our understandings of the United States as a nation? Join Annelise Orleck\, professor of history at Dartmouth\, and exhibition curators for a discussion of this question and more in connection with the Hood Museum&rsquo\;s 2026 exhibitions.
LOCATION:Hood Museum of Art\, Dartmouth 6 E Wheelock St. Hanover\, NH 30755
UID:e.3068.38409
SEQUENCE:3
DTSTAMP:20260425T122555Z
URL:https://visittheuppervalley.uppervalleybusinessalliance.com/events/details/conversations-and-connections-nurturing-nationhood-and-american-pop-38409
END:VEVENT

END:VCALENDAR
