BEGIN:VCALENDAR
VERSION:2.0
PRODID:-//ChamberMaster//Event Calendar 2.0//EN
METHOD:PUBLISH
X-PUBLISHED-TTL:P3D
REFRESH-INTERVAL:P3D
CALSCALE:GREGORIAN
BEGIN:VEVENT
DTSTART:20261204T130000Z
DTEND:20261204T143000Z
X-MICROSOFT-CDO-ALLDAYEVENT:FALSE
SUMMARY:Coffee & Connections with UVBA
DESCRIPTION:Join us on the First Friday of each month for coffee & networking. Start your month off meeting new people\, sharing leads and learning about what's coming up at UVBA.
X-ALT-DESC;FMTTYPE=text/html:Join us on the First Friday of each month for coffee &amp\; networking. Start your month off meeting new people\, sharing leads and learning about what&#39\;s coming up at UVBA.&nbsp\;
LOCATION:Lebanon Opera House 51 N Park Street Lebanon\, NH 03766
UID:e.3068.37732
SEQUENCE:3
DTSTAMP:20260422T221601Z
URL:https://visittheuppervalley.uppervalleybusinessalliance.com/events/details/coffee-connections-with-uvba-12-04-2026-37732
END:VEVENT

END:VCALENDAR
