BEGIN:VCALENDAR
VERSION:2.0
PRODID:-//ChamberMaster//Event Calendar 2.0//EN
METHOD:PUBLISH
X-PUBLISHED-TTL:P3D
REFRESH-INTERVAL:P3D
CALSCALE:GREGORIAN
BEGIN:VEVENT
DTSTART:20261106T130000Z
DTEND:20261106T143000Z
X-MICROSOFT-CDO-ALLDAYEVENT:FALSE
SUMMARY:Coffee & Connections with UVBA
DESCRIPTION:Join us on the First Friday of each month for coffee & networking. Start your month off meeting new people\, sharing leads and learning about what's coming up at UVBA.
X-ALT-DESC;FMTTYPE=text/html:Join us on the First Friday of each month for coffee &amp\; networking. Start your month off meeting new people\, sharing leads and learning about what&#39\;s coming up at UVBA.&nbsp\;
LOCATION:Dartmouth Regional Technology Center 16 Cavendish Court Lebanon\, NH 03766
UID:e.3068.37731
SEQUENCE:3
DTSTAMP:20260422T203904Z
URL:https://visittheuppervalley.uppervalleybusinessalliance.com/events/details/coffee-connections-with-uvba-11-06-2026-37731
END:VEVENT

END:VCALENDAR
