BEGIN:VCALENDAR
VERSION:2.0
PRODID:-//ChamberMaster//Event Calendar 2.0//EN
METHOD:PUBLISH
X-PUBLISHED-TTL:P3D
REFRESH-INTERVAL:P3D
CALSCALE:GREGORIAN
BEGIN:VEVENT
DTSTART:20260710T120000Z
DTEND:20260710T133000Z
X-MICROSOFT-CDO-ALLDAYEVENT:FALSE
SUMMARY:Coffee & Connections with UVBA
DESCRIPTION:Join us on the First Friday of each month for coffee & networking. Start your month off meeting new people\, sharing leads and learning about what's coming up at UVBA and Crown Point Cabinetry. Also\, get to tour the Crown Point Cabinetry space and how their amazing kitchens come together!
X-ALT-DESC;FMTTYPE=text/html:Join us on the First Friday of each month for coffee &amp\; networking. Start your month off meeting new people\, sharing leads and learning about what&#39\;s coming up at UVBA and Crown Point Cabinetry. Also\, get to tour the Crown Point Cabinetry space and how their amazing kitchens come together!
LOCATION:Crown Point Cabinetry 462 River Road Claremont\, NH 03743
UID:e.3068.37727
SEQUENCE:3
DTSTAMP:20260422T140407Z
URL:https://visittheuppervalley.uppervalleybusinessalliance.com/events/details/coffee-connections-with-uvba-07-03-2026-37727
END:VEVENT

END:VCALENDAR
