BEGIN:VCALENDAR
VERSION:2.0
PRODID:-//ChamberMaster//Event Calendar 2.0//EN
METHOD:PUBLISH
X-PUBLISHED-TTL:P3D
REFRESH-INTERVAL:P3D
CALSCALE:GREGORIAN
BEGIN:VEVENT
DTSTART:20260425T140000Z
DTEND:20260425T180000Z
X-MICROSOFT-CDO-ALLDAYEVENT:FALSE
SUMMARY:Climate Pledge in Action! Earth Week Open House Tour
DESCRIPTION:Curious about our '90 in 10  climate pledge? Join us for an Earth Week Open House tour on the farm! Sweetland Farm's owner\, Norah Lake\, will provide tours of our new timber frame barn and high-tech greenhouse\, which is located across the street from our full-diet farm store. Learn more about our 90 in 10 climate pledge\, check out our state-of-the-art wood chip boiler and wood-heated greenhouses\, learn more about our commitment to using ecological practices on conserved farmland\, take a gander at the electric farm truck\, chat about our extensive solar panels\, and more!
X-ALT-DESC;FMTTYPE=text/html:<span style="font-family:rubik\,sans-serif\; font-size:17px">Curious about our&nbsp\;</span><a href="https://sweetlandfarmvt.com/about-us/climate-pledge/" style="box-sizing: border-box\; text-decoration-line: none\; background-color: rgba(180\, 210\, 200\, 0.16)\; color: rgb(78\, 142\, 114)\; word-break: break-word\; box-shadow: none\; font-family: Rubik\, sans-serif\; font-size: 17px\; line-height: 1.3em\;">&rsquo\;90 in 10&prime\; climate pledge</a><span style="font-family:rubik\,sans-serif\; font-size:17px">? Join us for an Earth Week Open House tour on the farm! Sweetland Farm&rsquo\;s owner\, Norah Lake\, will provide tours of our new timber frame barn and high-tech greenhouse\, which is located across the street from our full-diet farm store. Learn more about our 90 in 10 climate pledge\, check out our state-of-the-art wood chip boiler and wood-heated greenhouses\, learn more about our commitment to using ecological practices on conserved farmland\, take a gander at the electric farm truck\, chat about our extensive solar panels\, and more!</span>
LOCATION:742 Route 132 Norwich\, VT 05055
UID:e.3068.38339
SEQUENCE:3
DTSTAMP:20260420T015435Z
URL:https://visittheuppervalley.uppervalleybusinessalliance.com/events/details/climate-pledge-in-action-earth-week-open-house-tour-38339
END:VEVENT

END:VCALENDAR
