BEGIN:VCALENDAR
VERSION:2.0
PRODID:-//ChamberMaster//Event Calendar 2.0//EN
METHOD:PUBLISH
X-PUBLISHED-TTL:P3D
REFRESH-INTERVAL:P3D
CALSCALE:GREGORIAN
BEGIN:VEVENT
DTSTART:20260509T140000Z
DTEND:20260509T180000Z
X-MICROSOFT-CDO-ALLDAYEVENT:FALSE
SUMMARY:Celebrate Spring—and Mom!—at Sweetland Farm!
DESCRIPTION:Rain date: Sunday\, May 10\, 10 am   2 pm\n\n\nCelebrate Spring and Mom! with swoon-worthy flowers and food samples\, plus activities for kids at Sweetland Farm! Looking for the perfect way to celebrate spring and Mother's Day? Come to the farm for a joyful (and free) day of fun\, food\, and family! Whether light rain or shine\, Sweetland Farm is throwing a party to welcome the 2026 season and you're invited!
X-ALT-DESC;FMTTYPE=text/html:<p>Rain date: Sunday\, May 10\, 10 am &ndash\; 2 pm</p>\n\n<div>\n<div>Celebrate Spring&mdash\;and Mom!&mdash\;with swoon-worthy flowers and food samples\, plus activities for kids at Sweetland Farm! Looking for the perfect way to celebrate spring and Mother&rsquo\;s Day? Come to the farm for a joyful (and&nbsp\;<em><strong>free</strong></em>) day of fun\, food\, and family! Whether light rain or shine\, Sweetland Farm is throwing a party to welcome the 2026 season&mdash\;and you&rsquo\;re invited!</div>\n</div>\n
LOCATION:742 Route 132 Norwich\, VT 05055
UID:e.3068.38340
SEQUENCE:3
DTSTAMP:20260420T020721Z
URL:https://visittheuppervalley.uppervalleybusinessalliance.com/events/details/celebrate-spring-and-mom-at-sweetland-farm-38340
END:VEVENT

END:VCALENDAR
