BEGIN:VCALENDAR
VERSION:2.0
PRODID:-//ChamberMaster//Event Calendar 2.0//EN
METHOD:PUBLISH
X-PUBLISHED-TTL:P3D
REFRESH-INTERVAL:P3D
CALSCALE:GREGORIAN
BEGIN:VEVENT
DTSTART:20290509T220000Z
DTEND:20290510T020000Z
X-MICROSOFT-CDO-ALLDAYEVENT:FALSE
SUMMARY:Card Game Night
DESCRIPTION:In addition to a regular Board Game Nights every Thursday\, Wednesday is becoming home for more specific monthly tabletop game nights!\n\n\n\nNow on the second Wednesday of every month we have a Card Games Night  with a featured game or theme each month. All Card Games in our Library are free to play\, or bring your own  and with one Member at the table our Premium Tables are free!
X-ALT-DESC;FMTTYPE=text/html:<span style="color:rgb(60\, 64\, 67)\; font-family:roboto\,helvetica\,arial\,sans-serif\; font-size:14px">In addition to a regular Board Game Nights every Thursday\, Wednesday is becoming home for more specific monthly tabletop game nights!</span><br />\n<br />\n<span style="color:rgb(60\, 64\, 67)\; font-family:roboto\,helvetica\,arial\,sans-serif\; font-size:14px">Now on the second Wednesday of every month we have a <strong>Card Games Night</strong>&mdash\; with a featured game or theme each month. All Card Games in our Library are free to play\, or bring your own&mdash\; and with one Member at the table our Premium Tables are free!</span>
LOCATION:The Fourth Place 3 Lebanon Street (Second Floor) Hanover\, NH 03755
UID:e.3068.33795
SEQUENCE:3
DTSTAMP:20260422T185616Z
URL:https://visittheuppervalley.uppervalleybusinessalliance.com/events/details/card-game-night-05-09-2029-33795
END:VEVENT

END:VCALENDAR
