BEGIN:VCALENDAR
VERSION:2.0
PRODID:-//ChamberMaster//Event Calendar 2.0//EN
METHOD:PUBLISH
X-PUBLISHED-TTL:P3D
REFRESH-INTERVAL:P3D
CALSCALE:GREGORIAN
BEGIN:VEVENT
DTSTART;VALUE=DATE:20260423
DTEND;VALUE=DATE:20260424
TRANSP:TRANSPARENT
X-MICROSOFT-CDO-ALLDAYEVENT:TRUE
SUMMARY:Board Game Thursdays: All skill levels welcome
DESCRIPTION:Every day is great for tabletop games at The Fourth Place in Hanover\, but Thursday nights may be the best! We always have regulars teaching games\, and plenty of people to play with\, and we also make more space and games available to play for free.
X-ALT-DESC;FMTTYPE=text/html:Every day is great for tabletop games at The Fourth Place in Hanover\, but Thursday nights may be the best!&nbsp\;We always have regulars teaching games\, and plenty of people to play with\, and we also make more space and games available to play for free.
LOCATION:The Fourth Place 3 Lebanon St (Second Floor) Hanover\, NH 03755
UID:e.3068.33496
SEQUENCE:3
DTSTAMP:20260420T002339Z
URL:https://visittheuppervalley.uppervalleybusinessalliance.com/events/details/board-game-thursdays-all-skill-levels-welcome-04-23-2026-33496
END:VEVENT

END:VCALENDAR
