BEGIN:VCALENDAR
VERSION:2.0
PRODID:-//ChamberMaster//Event Calendar 2.0//EN
METHOD:PUBLISH
X-PUBLISHED-TTL:P3D
REFRESH-INTERVAL:P3D
CALSCALE:GREGORIAN
BEGIN:VEVENT
DTSTART:20260411T233000Z
DTEND:20260412T013000Z
X-MICROSOFT-CDO-ALLDAYEVENT:FALSE
SUMMARY:Bill T. Jones/Arnie Zane Company: Still/Here
DESCRIPTION:The groundbreaking dance theater work returns 30 years following its premiere during the AIDS epidemic.\n\n\nThis powerful work continues to resonate today\, evoking a spirit of survival. Created during the contentious and terrifying AIDS epidemic in the US\, Still/Here broke boundaries between the personal and the political and exemplifies a form of dance theater that is uniquely American\, vital and timely.\n\nRaw\, poetic and deeply human\, Still/Here confronts mortality while celebrating resilience. The movement in Still/Here is deeply expressive\, combining fluid gestures\, arresting stillness and sudden shifts in dynamics to embody the emotional complexity of survival and vulnerability. The work is simple and sophisticated\, interweaving spoken text\, video portraits\, dance and the abstract nature of gesture into a powerful meditation on living with terminal illness and facing the unknown. Gretchen Bender's visual concept and multimedia environment is joined by music from Kenneth Frazelle (sung by Odetta) and Vernon Reid. Long-time collaborators include Liz Prince (costumes) and Robert Wierzel (lighting).\n\nAt the heart of Still/Here are the "Survival Workshops: Talking and Moving about Life and Death\," interviews conducted in the early 1990s with people grappling with life-threatening conditions. Their gestures inform the choreography\, their words the lyrics\, their images the stage. They will always be Still/Here. This work is dedicated to them.\n\nBill T. Jones is a Hop resident artist and former Montgomery Fellow. During his time on campus\, he will take part in discussions about the work\, visit classes and meet with students and faculty. \n\nStay tuned for information on a Big Move workshop and panel discussion.
X-ALT-DESC;FMTTYPE=text/html:<h3>The groundbreaking dance theater work returns 30 years following its premiere during the AIDS epidemic.</h3>\n\n<div>\n<p>This powerful work continues to resonate today\, evoking a spirit of survival. Created during the contentious and terrifying AIDS epidemic in the US\,&nbsp\;<em>Still/Here</em>&nbsp\;broke boundaries between the personal and the political and exemplifies a form of dance theater that is uniquely American\, vital and timely.</p>\n\n<p>Raw\, poetic and deeply human\,&nbsp\;<em>Still/Here</em>&nbsp\;confronts mortality while celebrating resilience. The movement in&nbsp\;<em>Still/Here</em>&nbsp\;is deeply expressive\, combining fluid gestures\, arresting stillness and sudden shifts in dynamics to embody the emotional complexity of survival and vulnerability. The work is simple and sophisticated\, interweaving spoken text\, video portraits\, dance and the abstract nature of gesture into a powerful meditation on living with terminal illness and facing the unknown. Gretchen Bender&#39\;s visual concept and multimedia environment is joined by music from Kenneth Frazelle (sung by Odetta) and Vernon Reid. Long-time collaborators include Liz Prince (costumes) and Robert Wierzel (lighting).</p>\n\n<p>At the heart of&nbsp\;<em>Still/Here</em>&nbsp\;are the &quot\;Survival Workshops: Talking and Moving about Life and Death\,&quot\; interviews conducted in the early 1990s with people grappling with life-threatening conditions. Their gestures inform the choreography\, their words the lyrics\, their images the stage. They will always be&nbsp\;<em>Still/Here</em>. This work is dedicated to them.</p>\n\n<div style="background:#eee\;border:1px solid #ccc\;padding:5px 10px\;">Bill T. Jones is a Hop resident artist and former Montgomery Fellow. During his time on campus\, he will take part in discussions about the work\, visit classes and meet with students and faculty.&nbsp\;</div>\n\n<p>Stay tuned for information on a&nbsp\;<a href="https://hop.dartmouth.edu/node/14461" style="box-sizing: border-box\; color: rgb(0\, 0\, 0)\; font-synthesis: none !important\;">Big Move</a>&nbsp\;workshop and panel discussion.</p>\n</div>\n
LOCATION:Hopkins Center The Moore Theater 4 East Wheelock Street Hanover\, NH
UID:e.3068.37277
SEQUENCE:3
DTSTAMP:20260419T193146Z
URL:https://visittheuppervalley.uppervalleybusinessalliance.com/events/details/bill-t-jones-arnie-zane-company-still-here-04-11-2026-37277
END:VEVENT

END:VCALENDAR
