BEGIN:VCALENDAR
VERSION:2.0
PRODID:-//ChamberMaster//Event Calendar 2.0//EN
METHOD:PUBLISH
X-PUBLISHED-TTL:P3D
REFRESH-INTERVAL:P3D
CALSCALE:GREGORIAN
BEGIN:VEVENT
DTSTART:20250112T200000Z
DTEND:20250112T210000Z
X-MICROSOFT-CDO-ALLDAYEVENT:FALSE
SUMMARY:Ben Kulp Solo Recital
DESCRIPTION:Ben Kulp\, Upper Valley Music Center's cello instructor\, shares a solo concert\, "Sign of the Times\,"  featuring music that reflects the current moment. The program features two contemporary women composers as well as Hendrix's famous arrangement of The Star Spangled Banner adapted for the instrument. Audiences at UVMC have come to appreciate Kulp's ability to present a program that engages the audience\, whether cello students or general music appreciators\, on an emotional and deeply musical level. Reception to follow.
X-ALT-DESC;FMTTYPE=text/html:<span style="color:rgb(20\, 24\, 39)\; font-family:helvetica neue\,helvetica\,-apple-system\,system-ui\,roboto\,arial\,sans-serif\; font-size:18px"><a href="https://uvmusic.org/about/meet-our-faculty/benjamin-kulp" style="margin: 0px\; padding: 0px\; border-top: 0px\; border-right: 0px\; border-bottom: 1px solid var(--tec-color-link-accent)\; border-left: 0px\; border-image: initial\; color: var(--tec-color-link-primary)\; text-decoration-line: none\; font-weight: 800\; transition: var(--tec-transition-color)\;">Ben Kulp</a>\, Upper Valley Music Center&rsquo\;s cello instructor\, shares a solo concert\, &ldquo\;Sign of the Times\,&rdquo\;&nbsp\; featuring music that reflects the current moment. The program features two contemporary women composers as well as Hendrix&rsquo\;s famous arrangement of&nbsp\;</span><em>The Star Spangled Banner</em><span style="color:rgb(20\, 24\, 39)\; font-family:helvetica neue\,helvetica\,-apple-system\,system-ui\,roboto\,arial\,sans-serif\; font-size:18px">&nbsp\;adapted for the instrument. Audiences at UVMC have come to appreciate Kulp&rsquo\;s ability to present a program that engages the audience\, whether cello students or general music appreciators\, on an emotional and deeply musical level. Reception to follow.</span>
LOCATION:First Congregational Church of Lebanon 10 South Park Street Lebanon\, NH 03766
UID:e.3068.36158
SEQUENCE:3
DTSTAMP:20260422T114227Z
URL:https://visittheuppervalley.uppervalleybusinessalliance.com/events/details/ben-kulp-solo-recital-36158
END:VEVENT

END:VCALENDAR
