BEGIN:VCALENDAR
VERSION:2.0
PRODID:-//ChamberMaster//Event Calendar 2.0//EN
METHOD:PUBLISH
X-PUBLISHED-TTL:P3D
REFRESH-INTERVAL:P3D
CALSCALE:GREGORIAN
BEGIN:VEVENT
DTSTART:20260412T190000Z
DTEND:20260412T203000Z
X-MICROSOFT-CDO-ALLDAYEVENT:FALSE
SUMMARY:Ben Kulp\, cello with Chenyu Wang\, piano: “Something Borrowed”
DESCRIPTION:Join cellist Ben Kulp for an afternoon where he explores repertoire that has been musically influential to him over the years. Ben will revisit the first movement of the Haydn C Major concerto from his high school days\, and rework classics with new renditions and interpretations.
X-ALT-DESC;FMTTYPE=text/html:<span style="color:rgb(68\, 68\, 68)\; font-family:motiva-sans\,sans-serif\; font-size:16px">Join cellist Ben Kulp for an afternoon where he explores repertoire that has been musically influential to him over the years. Ben will revisit the first movement of the Haydn C Major concerto from his high school days\, and rework classics with new renditions and interpretations.</span>
LOCATION:First Congregational Church of Lebanon 10 South Park Street Lebanon\, NH 03766
UID:e.3068.38403
SEQUENCE:3
DTSTAMP:20260425T122511Z
URL:https://visittheuppervalley.uppervalleybusinessalliance.com/events/details/ben-kulp-cello-with-chenyu-wang-piano-something-borrowed-38403
END:VEVENT

END:VCALENDAR
