BEGIN:VCALENDAR
VERSION:2.0
PRODID:-//ChamberMaster//Event Calendar 2.0//EN
METHOD:PUBLISH
X-PUBLISHED-TTL:P3D
REFRESH-INTERVAL:P3D
CALSCALE:GREGORIAN
BEGIN:VEVENT
DTSTART:20260606T133000Z
DTEND:20260606T153000Z
X-MICROSOFT-CDO-ALLDAYEVENT:FALSE
SUMMARY:Artificial Intelligence - a Prologue for Osher's 2026 Summer Lecture Series
DESCRIPTION:Dr. G. Christian Jernstedt\, Professor Emeritus of Psychological and Brain Sciences at Dartmouth\, will offer a foundational lecture on Artificial Intelligence as an introduction to the 2026 Osher at Dartmouth Summer Lecture Series\, which runs from July 8 through August 12.\n\nWhether you're planning on attending the Summer Lecture Series or not\, this lecture will provide a down-to-earth discussion of what AI is and is not. As Dr. Jernstedt stated\, "We'll look behind the headlines\, starting with the physically nearby origins of 'AI.' We'll encounter extraordinary things AI can do today and uncover where dangers are hidden. The core ideas that will be discussed will prepare us to more fully understand the sessions of the Summer Lecture Series\, which will address the question\, "How is Artificial Intelligence Transforming America?"\n\nChris Jernstedt has been involved with AI since he was an undergraduate in electronic and computer engineering at Carnegie Mellon. He has lectured around the world on the core neuroscience that undergirds modern AI applications. His two recent lectures on AI at Kendal at Hanover were very well received. One Kendal resident remarked that it was the best lecture he had ever attended\, on any topic.
X-ALT-DESC;FMTTYPE=text/html:<p><span style="font-size:16px"><span style="font-family:arial\,helvetica\,sans-serif"><strong>Dr. G. Christian Jernstedt</strong>\, Professor Emeritus of Psychological and Brain Sciences at Dartmouth\, will offer a foundational lecture on Artificial Intelligence as an introduction to the 2026 Osher at Dartmouth Summer Lecture Series\, which runs from July 8 through August 12.</span></span></p>\n\n<p><span style="font-size:16px"><span style="font-family:arial\,helvetica\,sans-serif">Whether you&rsquo\;re planning on attending the Summer Lecture Series or not\, this lecture will provide a down-to-earth discussion of what AI is and is not.&nbsp\;As Dr. Jernstedt stated\, &ldquo\;We&rsquo\;ll look behind the headlines\, starting with the physically nearby origins of &lsquo\;AI.&rsquo\; We&rsquo\;ll encounter extraordinary things AI can do today and uncover where dangers are hidden.&nbsp\;The core ideas that will be discussed will prepare us to more fully understand the sessions of the Summer Lecture Series\, which will address the question\, <strong>&quot\;How is Artificial Intelligence Transforming America?&rdquo\;</strong></span></span></p>\n\n<p><span style="font-size:16px"><span style="font-family:arial\,helvetica\,sans-serif">Chris Jernstedt has been involved with AI since he was an undergraduate in electronic and computer engineering at Carnegie Mellon.&nbsp\;He has lectured around the world on the core neuroscience that undergirds modern AI applications.&nbsp\;His two recent lectures on AI at Kendal at Hanover were very well received.&nbsp\;One Kendal resident remarked that it was the best lecture he had ever attended\, on any topic.</span></span></p>\n
LOCATION:Auditorium E\, Dartmouth Hitchcock Medical Center One Medical Center Drive Lebanon\, NH 03766
UID:e.3068.38731
SEQUENCE:3
DTSTAMP:20260424T224700Z
URL:https://visittheuppervalley.uppervalleybusinessalliance.com/events/details/artificial-intelligence-a-prologue-for-osher-s-2026-summer-lecture-series-38731
END:VEVENT

END:VCALENDAR
