BEGIN:VCALENDAR
VERSION:2.0
PRODID:-//ChamberMaster//Event Calendar 2.0//EN
METHOD:PUBLISH
X-PUBLISHED-TTL:P3D
REFRESH-INTERVAL:P3D
CALSCALE:GREGORIAN
BEGIN:VEVENT
DTSTART:20260424T180000Z
DTEND:20260424T193000Z
X-MICROSOFT-CDO-ALLDAYEVENT:FALSE
SUMMARY:Alessandro Sciarroni: Save the Last Dance for Me
DESCRIPTION:A forgotten dance that bridges generations\, defies gender norms and pulses with life.\n\n\nIn Save the Last Dance for Me\, Italian creative artist Alessandro Sciarroni revives the Polka Chinata a nearly extinct courtship dance performed exclusively by men in villages near Bologna beginning in the early 20th century.\n\nThe piece was created in collaboration with Giancarlo Stagni\, a Filuzziani dance master who rediscovered the form through archival footage from the 1960s. When Sciarroni encountered the dance in December 2018\, it was practiced by only five people in all of Italy.\n\nThese performances by dancers Gianmaria Borzillo and Giovanfrancesco Giannini will be followed by workshops designed to share and revive this vibrant popular tradition on the verge of extinction.\n\nSciarroni is perhaps the most intriguing performative artist currently active in Italy. His enormously varied body of work addresses issues around personal and communitarian identity through the reconfiguration of performing practices that are often far from what is conventionally thought of as dance. Preferring to characterize himself as a creative artist rather than as a choreographer or dancer\, Sciarroni was nevertheless awarded the Golden Lion Prize for Lifetime Achievement by the Venice Biennale of Dance in 2019.
X-ALT-DESC;FMTTYPE=text/html:<h3>A forgotten dance that bridges generations\, defies gender norms and pulses with life.</h3>\n\n<div>\n<p>In&nbsp\;<em>Save the Last Dance for Me</em>\, Italian creative artist Alessandro Sciarroni revives the Polka Chinata&mdash\;a nearly extinct courtship dance performed exclusively by men in villages near Bologna beginning in the early 20th century.</p>\n\n<p>The piece was created in collaboration with Giancarlo Stagni\, a Filuzziani dance master who rediscovered the form through archival footage from the 1960s. When Sciarroni encountered the dance in December 2018\, it was practiced by only five people in all of Italy.</p>\n\n<p>These performances by dancers Gianmaria Borzillo and Giovanfrancesco Giannini will be followed by workshops designed to share and revive this vibrant popular tradition on the verge of extinction.</p>\n\n<p>Sciarroni is perhaps the most intriguing performative artist currently active in Italy. His enormously varied body of work addresses issues around personal and communitarian identity through the reconfiguration of performing practices that are often far from what is conventionally thought of as dance. Preferring to characterize himself as a creative artist rather than as a choreographer or dancer\, Sciarroni was nevertheless awarded the Golden Lion Prize for Lifetime Achievement by the Venice Biennale of Dance in 2019.</p>\n</div>\n
LOCATION:Hopkins Center Morris Recital Hall 4 East Wheelock Street Hanover\, NH
UID:e.3068.37283
SEQUENCE:3
DTSTAMP:20260419T192853Z
URL:https://visittheuppervalley.uppervalleybusinessalliance.com/events/details/alessandro-sciarroni-save-the-last-dance-for-me-37283
END:VEVENT

END:VCALENDAR
