BEGIN:VCALENDAR
VERSION:2.0
PRODID:-//ChamberMaster//Event Calendar 2.0//EN
METHOD:PUBLISH
X-PUBLISHED-TTL:P3D
REFRESH-INTERVAL:P3D
CALSCALE:GREGORIAN
BEGIN:VEVENT
DTSTART:20260516T150000Z
DTEND:20260516T163000Z
X-MICROSOFT-CDO-ALLDAYEVENT:FALSE
SUMMARY:A Little of This & That: Truth Seekers: Henry David Thoreau & Emily Dickinson
DESCRIPTION:It is fun to picture Henry Thoreau and Emily Dickinson both sitting at their desks in Concord and Amherst\, MA\, just seventy miles apart from one another\, writing for themselves and\, ultimately\, for the ages. On the surface\, they were so different. Thoreau could spend pages describing a leaf or a woodchuck\, while Dickinson could\, in just seven lines\, tackle Art or Death or God. Yet they both had a genius for seeking the Truth and their words richly reward our attention.\n\nDavid Grant is a former English teacher and foundation president who currently lives in Strafford\, where he serves as Town Moderator. In his retirement\, he devotes his time to two outstanding Upper Valley institutions: Northern Stage and Osher. David is the author of The Social Profit Handbook (2015)\, which focuses on how mission-driven organizations can best measure their impact and success. He has performed around the world in a one-man show as Mark Twain.\n\nNote: This course is part of Osher's "A Little of This and That" series. We've gathered some of our finest Study Leaders from across the fields of science\, religion\, culture\, literature\, music\, and hands-on crafting. If you've never taken an Osher class\, try us out and discover what makes the Osher experience so rewarding. If you're already a member\, this is a perfect opportunity to explore new ideas\, reconnect with friends\, and continue to challenge and delight your mind.\n\n\n\nWe look forward to seeing you this spring.
X-ALT-DESC;FMTTYPE=text/html:<p><span style="font-size:16px"><span style="font-family:arial\,helvetica\,sans-serif">It is fun to picture Henry Thoreau and Emily Dickinson both sitting at their desks in Concord and Amherst\, MA\, just seventy miles apart from one&nbsp\;another\, writing for themselves and\, ultimately\, for the ages.&nbsp\;On the surface\, they were so different.&nbsp\;Thoreau could spend pages describing a leaf or a woodchuck\, while Dickinson could\,&nbsp\;in just seven lines\,&nbsp\;tackle&nbsp\;Art or Death or God.&nbsp\;Yet they both had a genius for seeking the Truth and their words richly reward our attention.</span></span></p>\n\n<p><span style="font-size:16px"><span style="font-family:arial\,helvetica\,sans-serif"><strong>David Grant</strong> is a former English teacher and foundation president who currently lives in Strafford\, where he serves as Town Moderator. In his retirement\, he devotes his time to two outstanding Upper Valley institutions: Northern Stage and Osher. David is the author of <em>The Social Profit Handbook</em> (2015)\, which focuses on how mission-driven organizations can best measure their impact and success. He has performed around the world in a one-man show as Mark Twain.</span></span></p>\n\n<p><span style="font-size:16px"><span style="font-family:arial\,helvetica\,sans-serif"><strong>Note:</strong>&nbsp\;This course is part of Osher&#39\;s &quot\;A Little of This and That&quot\; series. We&rsquo\;ve gathered some of our finest Study Leaders from across the fields of science\, religion\, culture\, literature\, music\, and hands-on crafting.&nbsp\;If you&rsquo\;ve never taken an Osher class\, try us out and discover what makes the Osher experience so rewarding. If you&rsquo\;re already a member\, this is a perfect opportunity to explore new ideas\, reconnect with friends\, and continue to challenge and delight your mind.<br />\n<br />\nWe look forward to seeing you this spring.</span></span></p>\n
LOCATION:Osher Lifelong Learning Institute at Dartmouth College 1 Court St. Lebanon\, NH 03766
UID:e.3068.38735
SEQUENCE:3
DTSTAMP:20260424T224925Z
URL:https://visittheuppervalley.uppervalleybusinessalliance.com/events/details/a-little-of-this-that-truth-seekers-henry-david-thoreau-emily-dickinson-38735
END:VEVENT

END:VCALENDAR
