BEGIN:VCALENDAR
VERSION:2.0
PRODID:-//ChamberMaster//Event Calendar 2.0//EN
METHOD:PUBLISH
X-PUBLISHED-TTL:P3D
REFRESH-INTERVAL:P3D
CALSCALE:GREGORIAN
BEGIN:VEVENT
DTSTART:20260410T160000Z
DTEND:20260410T170000Z
X-MICROSOFT-CDO-ALLDAYEVENT:FALSE
SUMMARY:A Little Lunch Music: The VTones
DESCRIPTION:Join a cappella group the VTones\, featuring UVMC Music Together teacher Katie Kitchel\, for a free lunchtime concert as part of UVMC's "A Little Lunch Music" series. Program TBA.
X-ALT-DESC;FMTTYPE=text/html:<span style="color:rgb(68\, 68\, 68)\; font-family:motiva-sans\,sans-serif\; font-size:16px">Join a cappella group the VTones\, featuring UVMC Music Together teacher Katie Kitchel\, for a free lunchtime concert as part of UVMC&rsquo\;s &ldquo\;A Little Lunch Music&rdquo\; series. Program TBA.&nbsp\;</span>
LOCATION:Upper Valley Music Center 8 South Park Street Lebanon\, NH 03766
UID:e.3068.38264
SEQUENCE:3
DTSTAMP:20260419T145720Z
URL:https://visittheuppervalley.uppervalleybusinessalliance.com/events/details/a-little-lunch-music-the-vtones-38264
END:VEVENT

END:VCALENDAR
