BEGIN:VCALENDAR
VERSION:2.0
PRODID:-//ChamberMaster//Event Calendar 2.0//EN
METHOD:PUBLISH
X-PUBLISHED-TTL:P3D
REFRESH-INTERVAL:P3D
CALSCALE:GREGORIAN
BEGIN:VEVENT
DTSTART:20260508T160000Z
DTEND:20260508T170000Z
X-MICROSOFT-CDO-ALLDAYEVENT:FALSE
SUMMARY:A Little Lunch Music: Play it Forward
DESCRIPTION:Join Upper Valley Music Center faculty and friends for a free lunchtime concert as part of UVMC's "A Little Lunch Music" series. This concert features folk and jazz music by the ensemble "Play it Forward\," with Chris Rua on recorders\, clarinet and vocals\, Thal Aylward on violin\, Glendon Ingalls on bass\, Ted Mortimer on guitar and vocals\, and Bruce Sklar on piano.
X-ALT-DESC;FMTTYPE=text/html:<span style="color:rgb(68\, 68\, 68)\; font-family:motiva-sans\,sans-serif\; font-size:16px">Join Upper Valley Music Center faculty and friends for a free lunchtime concert as part of UVMC&rsquo\;s &ldquo\;A Little Lunch Music&rdquo\; series. This concert features folk and jazz music by the ensemble &ldquo\;Play it Forward\,&rdquo\; with Chris Rua on&nbsp\;</span><span style="color:rgb(68\, 68\, 68)\; font-family:motiva-sans\,sans-serif\; font-size:16px">recorders\, clarinet and vocals\, Thal Aylward on violin\, Glendon Ingalls on bass\, Ted Mortimer on guitar and vocals\, and Bruce Sklar on piano.</span>
LOCATION:Upper Valley Music Center 8 South Park Street Lebanon\, NH 03766
UID:e.3068.38297
SEQUENCE:3
DTSTAMP:20260419T210650Z
URL:https://visittheuppervalley.uppervalleybusinessalliance.com/events/details/a-little-lunch-music-play-it-forward-38297
END:VEVENT

END:VCALENDAR
