BEGIN:VCALENDAR
VERSION:2.0
PRODID:-//ChamberMaster//Event Calendar 2.0//EN
METHOD:PUBLISH
X-PUBLISHED-TTL:P3D
REFRESH-INTERVAL:P3D
CALSCALE:GREGORIAN
BEGIN:VEVENT
DTSTART:20260522T160000Z
DTEND:20260522T170000Z
X-MICROSOFT-CDO-ALLDAYEVENT:FALSE
SUMMARY:A Little Lunch Music: Allison Pollard and Will Ogmundson
DESCRIPTION:Join Allison Pollard\, soprano\, and Will Ogmundson\, piano\, for a free lunchtime concert as part of UVMC's "A Little Lunch Music" series. Program TBA.
X-ALT-DESC;FMTTYPE=text/html:<p>Join Allison Pollard\, soprano\, and Will Ogmundson\, piano\, for a free lunchtime concert as part of UVMC&rsquo\;s &ldquo\;A Little Lunch Music&rdquo\; series. Program TBA.&nbsp\;</p>\n
LOCATION:Upper Valley Music Center 8 South Park St Lebanon\, NH 03766
UID:e.3068.38238
SEQUENCE:3
DTSTAMP:20260425T141119Z
URL:https://visittheuppervalley.uppervalleybusinessalliance.com/events/details/a-little-lunch-music-allison-pollard-and-will-ogmundson-38238
END:VEVENT

END:VCALENDAR
