BEGIN:VCALENDAR
VERSION:2.0
PRODID:-//ChamberMaster//Event Calendar 2.0//EN
METHOD:PUBLISH
X-PUBLISHED-TTL:P3D
REFRESH-INTERVAL:P3D
CALSCALE:GREGORIAN
BEGIN:VEVENT
DTSTART:20260516T160000Z
DTEND:20260516T200000Z
X-MICROSOFT-CDO-ALLDAYEVENT:FALSE
SUMMARY:2026 Massachusetts Mini Golf Spring Season Tour @ Fore-U Golf Center (Lebanon\, NH)
DESCRIPTION:
X-ALT-DESC;FMTTYPE=text/html:
LOCATION:
UID:e.3068.38736
SEQUENCE:3
DTSTAMP:20260425T134902Z
URL:https://visittheuppervalley.uppervalleybusinessalliance.com/events/details/2026-massachusetts-mini-golf-spring-season-tour-fore-u-golf-center-lebanon-nh-38736
END:VEVENT

END:VCALENDAR
